BEGIN:VCALENDAR
VERSION:2.0
PRODID:-//ChamberMaster//Event Calendar 2.0//EN
METHOD:PUBLISH
X-PUBLISHED-TTL:P3D
REFRESH-INTERVAL:P3D
CALSCALE:GREGORIAN
BEGIN:VEVENT
DTSTART:20260219T010000Z
DTEND:20260219T040000Z
X-MICROSOFT-CDO-ALLDAYEVENT:FALSE
SUMMARY:Live Music at The Boat Club Bar featuring Rylee Mix
DESCRIPTION:Enjoy Burger\, Beer & Beats featuring live music in The Boat Club Bar with Rylee Mix.
X-ALT-DESC;FMTTYPE=text/html:Enjoy Burger\, Beer &amp\; Beats featuring live music in The Boat Club Bar with Rylee Mix.
LOCATION:The Boat Club Bar Located inside The Lodge at Whitefish Lake 1380 Wisconsin Ave Whitefish\, MT
UID:e.148.83050
SEQUENCE:3
DTSTAMP:20260422T210556Z
URL:https://business.whitefishchamber.org/events/details/live-music-at-the-boat-club-bar-featuring-rylee-mix-02-18-2026-83050
END:VEVENT

END:VCALENDAR
