BEGIN:VCALENDAR
VERSION:2.0
PRODID:-//ChamberMaster//Event Calendar 2.0//EN
METHOD:PUBLISH
X-PUBLISHED-TTL:P3D
REFRESH-INTERVAL:P3D
CALSCALE:GREGORIAN
BEGIN:VEVENT
DTSTART:20260305T010000Z
DTEND:20260305T040000Z
X-MICROSOFT-CDO-ALLDAYEVENT:FALSE
SUMMARY:Live Music at The Boat Club Bar featuring Rylee Mix
DESCRIPTION:Enjoy Burger\, Beer & Beats featuring live music in The Boat Club Bar with Rylee Mix.\n\n\n\nGet ready for our midweek party live music that'll have you dancing in your seat along with a delicious\, featured burger\, crispy fries\, & your choice of draft beer all for just $18! Bring your friends and make Wednesday the best night of the week! This Wednesday we welcome Rylee Mix to the stage!
X-ALT-DESC;FMTTYPE=text/html:Enjoy Burger\, Beer &amp\; Beats featuring live music in The Boat Club Bar with Rylee Mix.<br />\n<br />\n<span style="background-color:rgb(249\, 249\, 249)\; font-family:roboto\,sans-serif\; font-size:14px">Get ready for our midweek party&mdash\;live music that&rsquo\;ll have you dancing in your seat along with a delicious\, featured burger\, crispy fries\, &amp\; your choice of draft beer&mdash\;all for just $18! Bring your friends and make Wednesday the best night of the week! This Wednesday we welcome Rylee Mix to the stage!</span>
LOCATION:The Boat Club Bar Located inside The Lodge at Whitefish Lake 1380 Wisconsin Ave Whitefish\, MT
UID:e.148.83330
SEQUENCE:3
DTSTAMP:20260422T231827Z
URL:https://business.whitefishchamber.org/events/details/live-music-at-the-boat-club-bar-featuring-rylee-mix-03-04-2026-83330
END:VEVENT

END:VCALENDAR
