BEGIN:VCALENDAR
VERSION:2.0
PRODID:-//ChamberMaster//Event Calendar 2.0//EN
METHOD:PUBLISH
X-PUBLISHED-TTL:P3D
REFRESH-INTERVAL:P3D
CALSCALE:GREGORIAN
BEGIN:VEVENT
DTSTART:20260321T000000Z
DTEND:20260321T030000Z
X-MICROSOFT-CDO-ALLDAYEVENT:FALSE
SUMMARY:Live Music at The Boat Club Bar featuring Rylee Mix
DESCRIPTION:Live music in The Boat Club Bar with Rylee Mix
X-ALT-DESC;FMTTYPE=text/html:Live music in The Boat Club Bar with Rylee Mix&nbsp\;
LOCATION:The Boat Club Bar Located inside The Lodge at Whitefish Lake 1380 Wisconsin Ave Whitefish\, MT
UID:e.148.76681
SEQUENCE:3
DTSTAMP:20260422T231615Z
URL:https://business.whitefishchamber.org/events/details/live-music-at-the-boat-club-bar-featuring-rylee-mix-76681
END:VEVENT

END:VCALENDAR
