BEGIN:VCALENDAR
VERSION:2.0
PRODID:-//ChamberMaster//Event Calendar 2.0//EN
METHOD:PUBLISH
X-PUBLISHED-TTL:P3D
REFRESH-INTERVAL:P3D
CALSCALE:GREGORIAN
BEGIN:VEVENT
DTSTART:20260326T000000Z
DTEND:20260326T030000Z
X-MICROSOFT-CDO-ALLDAYEVENT:FALSE
SUMMARY:Live Music at The Boat Club featuring Billy Billie
DESCRIPTION:Billy Billie brings electric folk comprised of originals\, covers\, and spoken word poetry performed by the talented Sarah Williams and Vinnie Rannazzisi.\n\n\n\nGet ready for our midweek party live music that'll have you dancing in your seat along with a delicious\, featured burger\, crispy fries\, & your choice of draft beer all for just $18! Bring your friends and make Wednesday the best night of the week!
X-ALT-DESC;FMTTYPE=text/html:<span style="color:rgb(0\, 0\, 0)\; font-family:brandon-grotesque\; font-size:18px"><strong>Billy Billie</strong> brings electric folk comprised of originals\, covers\, and spoken word poetry performed by the talented Sarah Williams and Vinnie Rannazzisi.</span><br />\n<br />\n<span style="background-color:rgb(249\, 249\, 249)\; font-family:roboto\,sans-serif\; font-size:14px">Get ready for our midweek party&mdash\;live music that&rsquo\;ll have you dancing in your seat along with a delicious\, featured burger\, crispy fries\, &amp\; your choice of draft beer&mdash\;all for just $18! Bring your friends and make Wednesday the best night of the week!</span>
LOCATION:The Boat Club The Lodge at Whitefish Lake 1380 Wisconsin Ave Whitefish\, Mt
UID:e.148.68915
SEQUENCE:3
DTSTAMP:20260422T231615Z
URL:https://business.whitefishchamber.org/events/details/live-music-at-the-boat-club-featuring-billy-billie-68915
END:VEVENT

END:VCALENDAR
