BEGIN:VCALENDAR
VERSION:2.0
PRODID:-//ChamberMaster//Event Calendar 2.0//EN
METHOD:PUBLISH
X-PUBLISHED-TTL:P3D
REFRESH-INTERVAL:P3D
CALSCALE:GREGORIAN
BEGIN:VEVENT
DTSTART:20260312T000000Z
DTEND:20260312T030000Z
X-MICROSOFT-CDO-ALLDAYEVENT:FALSE
SUMMARY:Live music at The Boat Club featuring David Walburn Duo
DESCRIPTION:Burger\, Beer & Beats featuring David Walburn Duo!\n\n\n\nGet ready for our midweek party live music that'll have you dancing in your seat along with a delicious\, featured burger\, crispy fries\, & your choice of draft beer all for just $18! Bring your friends and make Wednesday the best night of the week!
X-ALT-DESC;FMTTYPE=text/html:<span style="background-color:rgb(249\, 249\, 249)\; font-family:roboto\,sans-serif\; font-size:14px">Burger\, Beer &amp\; Beats featuring David Walburn Duo!</span><br />\n<br />\n<span style="background-color:rgb(249\, 249\, 249)\; font-family:roboto\,sans-serif\; font-size:14px">Get ready for our midweek party&mdash\;live music that&rsquo\;ll have you dancing in your seat along with a delicious\, featured burger\, crispy fries\, &amp\; your choice of draft beer&mdash\;all for just $18! Bring your friends and make Wednesday the best night of the week!</span>
LOCATION:The Boat Club Bar at The Lodge at Whitefish Lake 1380 Wisconsin Ave Whitefish
UID:e.148.83341
SEQUENCE:3
DTSTAMP:20260422T231615Z
URL:https://business.whitefishchamber.org/events/details/live-music-at-the-boat-club-featuring-david-walburn-duo-03-11-2026-83341
END:VEVENT

END:VCALENDAR
