BEGIN:VCALENDAR
VERSION:2.0
PRODID:-//ChamberMaster//Event Calendar 2.0//EN
METHOD:PUBLISH
X-PUBLISHED-TTL:P3D
REFRESH-INTERVAL:P3D
CALSCALE:GREGORIAN
BEGIN:VEVENT
DTSTART:20260108T010000Z
DTEND:20260108T040000Z
X-MICROSOFT-CDO-ALLDAYEVENT:FALSE
SUMMARY:Live music at The Boat Club featuring David Walburn Duo
DESCRIPTION:Live music at The Boat Club featuring the David Walburn Duo
X-ALT-DESC;FMTTYPE=text/html:Live music at The Boat Club featuring the David Walburn Duo
LOCATION:The Boat Club Bar at The Lodge at Whitefish Lake 1380 Wisconsin Ave Whitefish
UID:e.148.71457
SEQUENCE:3
DTSTAMP:20260422T205805Z
URL:https://business.whitefishchamber.org/events/details/live-music-at-the-boat-club-featuring-david-walburn-duo-71457
END:VEVENT

END:VCALENDAR
