BEGIN:VCALENDAR
VERSION:2.0
PRODID:-//ChamberMaster//Event Calendar 2.0//EN
METHOD:PUBLISH
X-PUBLISHED-TTL:P3D
REFRESH-INTERVAL:P3D
CALSCALE:GREGORIAN
BEGIN:VEVENT
DTSTART:20260412T000000Z
DTEND:20260412T030000Z
X-MICROSOFT-CDO-ALLDAYEVENT:FALSE
SUMMARY:Live Music at The Firebrand Featuring Andrew Sweeney
DESCRIPTION:Live Music at The Firebrand Featuring Andrew Sweeney
X-ALT-DESC;FMTTYPE=text/html:<h3>Live Music at The Firebrand Featuring Andrew Sweeney</h3>\n
LOCATION:The Firebrand Hotel 650 3rd St E Whitefish\, MT
UID:e.148.72552
SEQUENCE:3
DTSTAMP:20260423T002439Z
URL:https://business.whitefishchamber.org/events/details/live-music-at-the-firebrand-featuring-andrew-sweeney-72552
END:VEVENT

END:VCALENDAR
