BEGIN:VCALENDAR
VERSION:2.0
PRODID:-//ChamberMaster//Event Calendar 2.0//EN
METHOD:PUBLISH
X-PUBLISHED-TTL:P3D
REFRESH-INTERVAL:P3D
CALSCALE:GREGORIAN
BEGIN:VEVENT
DTSTART:20260404T000000Z
DTEND:20260404T030000Z
X-MICROSOFT-CDO-ALLDAYEVENT:FALSE
SUMMARY:Live Music at The Firebrand featuring John Dunnigan
DESCRIPTION:Kick off the month with local music legend John Dunnigan in the Firebrand Restaurant on the first Friday of each month from 6-9p.\n\n\n\n\n\n\n	Friday\, March 6\n	Friday\, April 3\n\n\nIf Jimmy Buffett\, James Taylor and John Prine were joined together in some bizarre musical cloning experiment\, the outcome would be John Dunnigan. This "offbeat" musician and entertainer took the backroads to Montana over three decades ago and never left (he's no fool). His original\, often hilarious songs make you think\, laugh\, sing along and raise your glass in a toast to life. In short\, he can put a smile on your face.
X-ALT-DESC;FMTTYPE=text/html:<div style="margin-left:auto\; margin-right:auto">\n<div>\n<p>Kick off the month with local music legend John Dunnigan in the Firebrand Restaurant on the first Friday of each month from 6-9p.</p>\n</div>\n</div>\n\n<div style="margin-left:auto\; margin-right:auto">\n<div>\n<ul>\n	<li>Friday\, March 6</li>\n	<li>Friday\, April 3</li>\n</ul>\n\n<p>If Jimmy Buffett\, James Taylor and John Prine were joined together in some bizarre musical cloning experiment\, the outcome would be John Dunnigan. This &quot\;offbeat&quot\; musician and entertainer took the backroads to Montana over three decades ago and never left (he&#39\;s no fool). His original\, often hilarious songs make you think\, laugh\, sing along and raise your glass in a toast to life. In short\, he can put a smile on your face.</p>\n</div>\n</div>\n
LOCATION:The Firebrand Hotel 650 E 3rd St Whitefish
UID:e.148.83328
SEQUENCE:3
DTSTAMP:20260423T002940Z
URL:https://business.whitefishchamber.org/events/details/live-music-at-the-firebrand-featuring-john-dunnigan-04-03-2026-83328
END:VEVENT

END:VCALENDAR
