BEGIN:VCALENDAR
VERSION:2.0
PRODID:-//ChamberMaster//Event Calendar 2.0//EN
METHOD:PUBLISH
X-PUBLISHED-TTL:P3D
REFRESH-INTERVAL:P3D
CALSCALE:GREGORIAN
BEGIN:VEVENT
DTSTART:20260502T000000Z
DTEND:20260502T030000Z
X-MICROSOFT-CDO-ALLDAYEVENT:FALSE
SUMMARY:Live Music at The Firebrand featuring John Dunnigan
DESCRIPTION:Local favorite John Dunnigan is back with his "offbeat" collection of music. If Jimmy Buffett\, James Taylor and John Prine were joined together in some bizarre musical cloning experiment\, the outcome would be John Dunnigan. His original\, often hilarious songs make you think\, laugh\, sing along and raise your glass in a toast to life. In short\, he can put a smile on your face.
X-ALT-DESC;FMTTYPE=text/html:Local favorite John Dunnigan is back with his &ldquo\;offbeat&rdquo\; collection of music. If Jimmy Buffett\, James Taylor and John Prine were joined together in some bizarre musical cloning experiment\, the outcome would be John Dunnigan. His original\, often hilarious songs make you think\, laugh\, sing along and raise your glass in a toast to life. In short\, he can put a smile on your face.&nbsp\;&nbsp\;
LOCATION:The Firebrand Hotel 650 E 3rd St Whitefish
UID:e.148.76620
SEQUENCE:3
DTSTAMP:20260419T120901Z
URL:https://business.whitefishchamber.org/events/details/live-music-at-the-firebrand-featuring-john-dunnigan-05-01-2026-76620
END:VEVENT

END:VCALENDAR
