BEGIN:VCALENDAR
VERSION:2.0
PRODID:-//ChamberMaster//Event Calendar 2.0//EN
METHOD:PUBLISH
X-PUBLISHED-TTL:P3D
REFRESH-INTERVAL:P3D
CALSCALE:GREGORIAN
BEGIN:VEVENT
DTSTART:20260215T010000Z
DTEND:20260215T040000Z
X-MICROSOFT-CDO-ALLDAYEVENT:FALSE
SUMMARY:Live Music at The Firebrand Restaurant featuring Mike Murray
DESCRIPTION:Celebrate your sweetheart with an exquisite 4-course curated menu in the Restaurant plus enjoy live music with Mike Murray on from 6-9p. Reservations recommended 406.863.1919 \n\n\n\n\n\n4 courses $75 per person / Optional wine pairing $49 per person / Reservations highly recommended 406.863.1919\n\nTo view our Valentine's menu visit our website.
X-ALT-DESC;FMTTYPE=text/html:<div style="margin-left:auto\; margin-right:auto">\n<div>\n<p>Celebrate your sweetheart with an exquisite 4-course curated menu in the Restaurant plus enjoy live music with Mike Murray on from 6-9p. Reservations recommended 406.863.1919&nbsp\;</p>\n</div>\n</div>\n\n<div style="margin-left:auto\; margin-right:auto">\n<div>\n<p>4 courses $75 per person / Optional wine pairing $49 per person /&nbsp\;Reservations highly recommended 406.863.1919<br />\nTo view our Valentine&#39\;s menu visit our <a href="https://firebrandhotel.com/events/valentines-dinner/77641a69-1f92-4ec0-88d9-21e75ce5b598">website.</a></p>\n</div>\n</div>\n
LOCATION:The Firebrand Hotel & Restaurant 650 East Third Street Whitefish
UID:e.148.83046
SEQUENCE:3
DTSTAMP:20260422T210430Z
URL:https://business.whitefishchamber.org/events/details/live-music-at-the-firebrand-restaurant-featuring-mike-murray-02-14-2026-83046
END:VEVENT

END:VCALENDAR
