BEGIN:VCALENDAR
VERSION:2.0
PRODID:-//ChamberMaster//Event Calendar 2.0//EN
METHOD:PUBLISH
X-PUBLISHED-TTL:P3D
REFRESH-INTERVAL:P3D
CALSCALE:GREGORIAN
BEGIN:VEVENT
DTSTART:20251116T010000Z
DTEND:20251116T040000Z
X-MICROSOFT-CDO-ALLDAYEVENT:FALSE
SUMMARY:Live Music at The Firebrand Restaurant featuring Nick Spear
DESCRIPTION:Join us for live music in The Firebrand Restaurant featuring Nick Spear!
X-ALT-DESC;FMTTYPE=text/html:Join us for live music in The Firebrand Restaurant featuring Nick Spear!
LOCATION:The Firebrand Hotel & Restaurant 650 E Third Street Whitefish
UID:e.148.60224
SEQUENCE:3
DTSTAMP:20260422T171950Z
URL:https://business.whitefishchamber.org/events/details/live-music-at-the-firebrand-restaurant-featuring-nick-spear-11-05-2022-60224
END:VEVENT

END:VCALENDAR
