BEGIN:VCALENDAR
VERSION:2.0
PRODID:-//ChamberMaster//Event Calendar 2.0//EN
METHOD:PUBLISH
X-PUBLISHED-TTL:P3D
REFRESH-INTERVAL:P3D
CALSCALE:GREGORIAN
BEGIN:VEVENT
DTSTART:20250827T210000Z
DTEND:20250828T000000Z
X-MICROSOFT-CDO-ALLDAYEVENT:FALSE
SUMMARY:Live music at The Lodge Tiki Bar featuring Brent Jameson
DESCRIPTION:It's still summer at The Lodge at Whitefish Lake! Enjoy live music on the lakefront with Brent Jameson! Brent's signature sound is a combination of Blues\, Funk\, Folk & Reggae.\n\n\n\nWednesday\, August 27th from 3p-6p at the lakeside Tiki Bar at The Lodge at Whitefish Lake - open to the public 12-9p Daily
X-ALT-DESC;FMTTYPE=text/html:<p>It&#39\;s still summer at The Lodge at Whitefish Lake! Enjoy live music on the lakefront with Brent Jameson!&nbsp\;Brent&#39\;s<span style="font-family:century gothic\,sans-serif\; font-size:10.5pt"> signature sound is a combination of Blues\, Funk\, Folk &amp\; Reggae.</span><br />\n<br />\nWednesday\, August 27th from 3p-6p at the lakeside Tiki Bar at The Lodge at Whitefish Lake - open to the public 12-9p Daily</p>\n
LOCATION:The Tiki Bar & Grill at The Lodge at Whitefish Lake 1380 Wisconsin Ave Whitefish
UID:e.148.57589
SEQUENCE:3
DTSTAMP:20260422T143622Z
URL:https://business.whitefishchamber.org/events/details/live-music-at-the-lodge-tiki-bar-featuring-brent-jameson-09-17-2022-57589
END:VEVENT

END:VCALENDAR
