BEGIN:VCALENDAR
VERSION:2.0
PRODID:-//ChamberMaster//Event Calendar 2.0//EN
METHOD:PUBLISH
X-PUBLISHED-TTL:P3D
REFRESH-INTERVAL:P3D
CALSCALE:GREGORIAN
BEGIN:VEVENT
DTSTART:20250724T000000Z
DTEND:20250724T030000Z
X-MICROSOFT-CDO-ALLDAYEVENT:FALSE
SUMMARY:Live Music at Thirty Eight with Mike Murray Duo presented by Whitefish Music Scene
DESCRIPTION:Live Music at Thirty Eight with Mike Murray Duo presented by Whitefish Music Scene\n\n\nEnjoy live music at this open-air venue in the heart of downtown Whitefish!
X-ALT-DESC;FMTTYPE=text/html:<p>Live Music at Thirty Eight with<span style="font-size:16px"> <span style="font-size:14px">Mike Murray Duo</span>&nbsp\;</span>presented by Whitefish Music Scene</p>\n<br />\n<span style="background-color:rgba(255\, 255\, 255\, 0.4)\; color:rgb(88\, 89\, 91)\; font-family:arial\,helvetica\,sans-serif">Enjoy live music at this open-air venue in the heart of downtown Whitefish!</span>
LOCATION:Thirty Eight 38 Central Ave Whitefish\, Mt
UID:e.148.75974
SEQUENCE:3
DTSTAMP:20260422T120302Z
URL:https://business.whitefishchamber.org/events/details/live-music-at-thirty-eight-with-mike-murray-duo-presented-by-whitefish-music-scene-07-23-2025-75974
END:VEVENT

END:VCALENDAR
