BEGIN:VCALENDAR
VERSION:2.0
PRODID:-//ChamberMaster//Event Calendar 2.0//EN
METHOD:PUBLISH
X-PUBLISHED-TTL:P3D
REFRESH-INTERVAL:P3D
CALSCALE:GREGORIAN
BEGIN:VEVENT
DTSTART:20250828T000000Z
DTEND:20250828T030000Z
X-MICROSOFT-CDO-ALLDAYEVENT:FALSE
SUMMARY:Live Music at Thirty Eight with Andrew Brozek presented by Whitefish Music Scene
DESCRIPTION:Live Music at Thirty Eight with Andrew Brozek presented by Whitefish Music Scene\n\n\n\nEnjoy live music at this open-air venue in the heart of downtown Whitefish!\n\n\n\nAndrew Brozek has played guitar since he was 11 years old and has been singing for even longer. He has a passion for Folk\, Americana\, and Bluegrass\, loves the elegance and simplicity of acoustic music\, and is dedicated to making his instruments an extension of himself.
X-ALT-DESC;FMTTYPE=text/html:<span style="font-size:14px">Live Music at Thirty Eight with Andrew Brozek presented by Whitefish Music Scene</span><br />\n<br />\n<span style="background-color:rgba(255\, 255\, 255\, 0.4)\; color:rgb(88\, 89\, 91)\; font-family:arial\,helvetica\,sans-serif\; font-size:14px">Enjoy live music at this open-air venue in the heart of downtown Whitefish!</span><br />\n<br />\n<span style="background-color:rgba(255\, 255\, 255\, 0.4)\; color:rgb(88\, 89\, 91)\; font-family:proxima-nova\,helvetica\,arial\,sans-serif\; font-size:18px">Andrew Brozek has played guitar since he was 11 years old and has been singing for even longer. He has a passion for Folk\, Americana\, and Bluegrass\, loves the elegance and simplicity of acoustic music\, and is dedicated to making his instruments an extension of himself.</span>
LOCATION:Thirty Eight 38 Central Ave Whitefish\, Mt
UID:e.148.71724
SEQUENCE:3
DTSTAMP:20260422T143138Z
URL:https://business.whitefishchamber.org/events/details/live-music-at-thirty-eight-with-todd-cowart-presented-by-whitefish-music-scene-10-04-2024-71724
END:VEVENT

END:VCALENDAR
