BEGIN:VCALENDAR
VERSION:2.0
PRODID:-//ChamberMaster//Event Calendar 2.0//EN
METHOD:PUBLISH
X-PUBLISHED-TTL:P3D
REFRESH-INTERVAL:P3D
CALSCALE:GREGORIAN
BEGIN:VEVENT
DTSTART:20251122T013000Z
DTEND:20251122T043000Z
X-MICROSOFT-CDO-ALLDAYEVENT:FALSE
SUMMARY:Live Music at Tupelo Grille Mike Murray
DESCRIPTION:
X-ALT-DESC;FMTTYPE=text/html:
LOCATION:
UID:e.148.76365
SEQUENCE:3
DTSTAMP:20260422T170800Z
URL:https://business.whitefishchamber.org/events/details/live-music-at-tupelo-grille-mike-murray-11-21-2025-76365
END:VEVENT

END:VCALENDAR
