BEGIN:VCALENDAR
VERSION:2.0
PRODID:-//ChamberMaster//Event Calendar 2.0//EN
METHOD:PUBLISH
X-PUBLISHED-TTL:P3D
REFRESH-INTERVAL:P3D
CALSCALE:GREGORIAN
BEGIN:VEVENT
DTSTART:20260212T010000Z
DTEND:20260212T040000Z
X-MICROSOFT-CDO-ALLDAYEVENT:FALSE
SUMMARY:Live Music with Todd Cowart at 101 Central
DESCRIPTION:Join us for live music with Todd Cowart.
X-ALT-DESC;FMTTYPE=text/html:<span style="color:rgb(0\, 0\, 0)\; font-family:arial\; font-size:10pt">Join us for live music with Todd Cowart.</span>
LOCATION:101 Central Ave Whitefish\, MT 59937
UID:e.148.77937
SEQUENCE:3
DTSTAMP:20260422T215946Z
URL:https://business.whitefishchamber.org/events/details/live-music-todd-cowart-02-11-2026-77937
END:VEVENT

END:VCALENDAR
