BEGIN:VCALENDAR
VERSION:2.0
PRODID:-//ChamberMaster//Event Calendar 2.0//EN
METHOD:PUBLISH
X-PUBLISHED-TTL:P3D
REFRESH-INTERVAL:P3D
CALSCALE:GREGORIAN
BEGIN:VEVENT
DTSTART:20251202T020000Z
DTEND:20251202T040000Z
X-MICROSOFT-CDO-ALLDAYEVENT:FALSE
SUMMARY:Mannheim Steamroller Christmas
DESCRIPTION:The Wachholz College Center is pleased to welcome Manheim Steamroller back to the Flathead Valley after their sold-out performances in 2022\, 2023 and 2024.\n\n\n\nThe Ultimate Holiday Tradition!\n\n\n\nMANNHEIM STEAMROLLER CHRISTMAS by Chip Davis has been America's favorite holiday tradition for over 35 years!  Grammy Award winner Chip Davis has created a show that features Mannheim Steamroller Christmas classics in the distinctive Mannheim sound.\n\n\n\nThe program celebrates the group's recent anniversary of 35 years since the first Christmas album and includes dazzling multimedia effects performed in an intimate setting. Experience the magic as the spirit of the season comes alive with the signature sound of Mannheim Steamroller.
X-ALT-DESC;FMTTYPE=text/html:<span style="color:rgb(0\, 0\, 0)\; font-family:arial\,helvetica\,sans-serif\; font-size:16px">The Wachholz College Center is pleased to welcome Manheim Steamroller back to&nbsp\;the Flathead Valley after their sold-out performances in 2022\, 2023 and 2024.</span><br />\n<br />\n<span style="color:rgb(0\, 0\, 0)\; font-family:arial\,helvetica\,sans-serif\; font-size:16px">The Ultimate Holiday Tradition!</span><br />\n<br />\n<span style="color:rgb(0\, 0\, 0)\; font-family:arial\,helvetica\,sans-serif\; font-size:16px">MANNHEIM STEAMROLLER CHRISTMAS by Chip Davis has been America&rsquo\;s favorite holiday tradition for over 35 years! &nbsp\;Grammy Award winner Chip Davis has created a show that features Mannheim Steamroller Christmas classics in the distinctive Mannheim sound.</span><br />\n<br />\n<span style="color:rgb(0\, 0\, 0)\; font-family:arial\,helvetica\,sans-serif\; font-size:16px">The program celebrates the group&rsquo\;s recent anniversary of 35 years since the first Christmas album and includes dazzling multimedia effects performed in an intimate setting.&nbsp\;Experience the magic as the spirit of the season comes alive with the signature sound of Mannheim Steamroller.</span>
LOCATION:Wachholz College Center @ Flathead Valley Community College
UID:e.148.76117
SEQUENCE:3
DTSTAMP:20260422T193450Z
URL:https://business.whitefishchamber.org/events/details/mannheim-steamroller-christmas-76117
END:VEVENT

END:VCALENDAR
