BEGIN:VCALENDAR
VERSION:2.0
PRODID:-//ChamberMaster//Event Calendar 2.0//EN
METHOD:PUBLISH
X-PUBLISHED-TTL:P3D
REFRESH-INTERVAL:P3D
CALSCALE:GREGORIAN
BEGIN:VEVENT
DTSTART:20251106T193000Z
DTEND:20251106T203000Z
X-MICROSOFT-CDO-ALLDAYEVENT:FALSE
SUMMARY:Medicare & You 2026
DESCRIPTION:Medicare Informational Session at Whitefish Community Center.\n\n\n\nMedicare Open Enrollment is October 15 through December 7.  Join us at the Whitefish Community Center on Thursday\, November 6 at 12:30 pm for an informational session with the Flathead County Agency on Aging.  They will be at the Center to answer questions and assist with Medicare and benefits.  Everyone is welcome and the event is Free.
X-ALT-DESC;FMTTYPE=text/html:<br />\nMedicare Informational Session at Whitefish Community Center.<br />\n<br />\nMedicare Open Enrollment is October 15 through December 7.&nbsp\; Join us at the Whitefish Community Center on Thursday\, November 6 at 12:30 pm for an informational session with the Flathead County Agency on Aging.&nbsp\; They will be at the Center to answer questions and assist with Medicare and benefits.&nbsp\; Everyone is welcome and the event is Free.
LOCATION:Whitefish Community Center 121 E 2nd Street Whitefish\, MT 59937
UID:e.148.76581
SEQUENCE:3
DTSTAMP:20260422T182056Z
URL:https://business.whitefishchamber.org/events/details/medicare-and-you-2026-76581
END:VEVENT

END:VCALENDAR
