BEGIN:VCALENDAR
VERSION:2.0
PRODID:-//ChamberMaster//Event Calendar 2.0//EN
METHOD:PUBLISH
X-PUBLISHED-TTL:P3D
REFRESH-INTERVAL:P3D
CALSCALE:GREGORIAN
BEGIN:VEVENT
DTSTART;VALUE=DATE:20260526
DTEND;VALUE=DATE:20260527
TRANSP:TRANSPARENT
X-MICROSOFT-CDO-ALLDAYEVENT:TRUE
SUMMARY:Mike Eldred Musical Production
DESCRIPTION:Music and performances that will enhance and inspire the community
X-ALT-DESC;FMTTYPE=text/html:Music and performances that will enhance and inspire the community&nbsp\;
LOCATION:101 Central Whitefish Montana 59937
UID:e.148.83584
SEQUENCE:3
DTSTAMP:20260423T001936Z
URL:https://business.whitefishchamber.org/events/details/mike-eldred-musical-production-83584
END:VEVENT

END:VCALENDAR
