BEGIN:VCALENDAR
VERSION:2.0
PRODID:-//ChamberMaster//Event Calendar 2.0//EN
METHOD:PUBLISH
X-PUBLISHED-TTL:P3D
REFRESH-INTERVAL:P3D
CALSCALE:GREGORIAN
BEGIN:VEVENT
DTSTART;VALUE=DATE:20260501
DTEND;VALUE=DATE:20260502
TRANSP:TRANSPARENT
X-MICROSOFT-CDO-ALLDAYEVENT:TRUE
SUMMARY:Montana World Affairs Global Gauntlet
DESCRIPTION:Global Gauntlet Invites you to an evening of trivia in order to raise money for fostering world education in Montana.
X-ALT-DESC;FMTTYPE=text/html:Global Gauntlet Invites you to an evening of trivia in order to raise money for fostering world education in Montana.&nbsp\;
LOCATION:Trivia fundraiser for Global Gauntlet and all the work they do in bringing world education to the classrooms of Montana
UID:e.148.83581
SEQUENCE:3
DTSTAMP:20260423T002059Z
URL:https://business.whitefishchamber.org/events/details/montana-world-affairs-global-gauntlet-83581
END:VEVENT

END:VCALENDAR
