BEGIN:VCALENDAR
VERSION:2.0
PRODID:-//ChamberMaster//Event Calendar 2.0//EN
METHOD:PUBLISH
X-PUBLISHED-TTL:P3D
REFRESH-INTERVAL:P3D
CALSCALE:GREGORIAN
BEGIN:VEVENT
DTSTART;VALUE=DATE:20260510
DTEND;VALUE=DATE:20260511
TRANSP:TRANSPARENT
X-MICROSOFT-CDO-ALLDAYEVENT:TRUE
SUMMARY:Mother's Day Brunch
DESCRIPTION:Join us in celebrating mothers everywhere with a special curated menu to show our loved ones how grateful we are.
X-ALT-DESC;FMTTYPE=text/html:Join us in celebrating mothers everywhere with a special curated menu to show our loved ones how grateful we are.&nbsp\;
LOCATION:101 Central Whitefish Montana 59937
UID:e.148.83582
SEQUENCE:3
DTSTAMP:20260423T002115Z
URL:https://business.whitefishchamber.org/events/details/mother-s-day-brunch-05-10-2026-83582
END:VEVENT

END:VCALENDAR
