BEGIN:VCALENDAR
VERSION:2.0
PRODID:-//ChamberMaster//Event Calendar 2.0//EN
METHOD:PUBLISH
X-PUBLISHED-TTL:P3D
REFRESH-INTERVAL:P3D
CALSCALE:GREGORIAN
BEGIN:VEVENT
DTSTART;VALUE=DATE:20260307
DTEND;VALUE=DATE:20260309
TRANSP:TRANSPARENT
X-MICROSOFT-CDO-ALLDAYEVENT:TRUE
SUMMARY:Mud Madness Weekend & Open Call for Art
DESCRIPTION:Mud Madness Weekend and Open Call for Art!\n\nA full weekend of Clay themed events at Stumptown Art Studio\n\nSaturday & Sunday March 7th and 8th\n\n\n\nJoin us on Saturday\, March 7th for our "Clay Olympics" - friendly clay competitions and audience participation events.\n\n\n\nThen on Sunday\, March 8th get ready for Potters' Talks and Demonstrations - presentations by local ceramic artists\, potters and clay educators.\n\n\n\nOpen Call for Art: We are also seeking ceramic works for our March Ceramic Gallery Show.  This show aims to feature work made by local potters\, ceramic artist\, and clay hobbyists. \n\n\n\nCheck the links for Clay Games registration and Open Call for Art submission forms.\n\n\n\nThis event is funded in part by the Montana Arts Council\, an agency of the State Government\, and by the National Endowment for the Arts.\n\n\n\nFull schedule of events will be posted 3/1/26 on our website!
X-ALT-DESC;FMTTYPE=text/html:Mud Madness Weekend and Open Call for Art!<br />\nA full weekend of Clay themed events at Stumptown Art Studio<br />\nSaturday &amp\; Sunday March 7th and 8th<br />\n<br />\nJoin us on Saturday\, March 7th for our &quot\;Clay Olympics&quot\; - friendly clay competitions and audience participation events.<br />\n<br />\nThen on Sunday\, March 8th get ready for Potters&#39\; Talks and Demonstrations - presentations by local ceramic artists\, potters and clay educators.<br />\n<br />\nOpen Call for Art: We are also seeking ceramic works for our March Ceramic Gallery Show.&nbsp\; This show aims to feature work made by local potters\, ceramic artist\, and clay hobbyists.&nbsp\;<br />\n<br />\nCheck the links for Clay Games registration and Open Call for Art submission forms.<br />\n<br />\nThis event is funded in part by the Montana Arts Council\, an agency of the State Government\, and by the National Endowment for the Arts.<br />\n<br />\nFull schedule of events will be posted 3/1/26 on our website!&nbsp\;<br />\n<br />\n&nbsp\;
LOCATION:Stumptown Art Studio 145 Central Ave. Downtown Whitefish
UID:e.148.83102
SEQUENCE:3
DTSTAMP:20260422T231354Z
URL:https://business.whitefishchamber.org/events/details/mud-madness-weekend-open-call-for-art-83102
END:VEVENT

END:VCALENDAR
