BEGIN:VCALENDAR
VERSION:2.0
PRODID:-//ChamberMaster//Event Calendar 2.0//EN
METHOD:PUBLISH
X-PUBLISHED-TTL:P3D
REFRESH-INTERVAL:P3D
CALSCALE:GREGORIAN
BEGIN:VEVENT
DTSTART:20260101T000000Z
DTEND:20260101T080000Z
X-MICROSOFT-CDO-ALLDAYEVENT:FALSE
SUMMARY:New Year's Eve Party in the Boat Club at The Lodge at Whitefish Lake
DESCRIPTION:Light up the New Year in the Boat Club Bar!\n\n\n\nStart the celebration with dinner in the Dining Room\, then ring in the New Year with a party in the Bar featuring sparklers\, a sparkling toast and "dessert drop" at midnight. Dinner reservations strongly suggested 406.863.4040.\n\n\n\n\n\nDrink service until 1a.
X-ALT-DESC;FMTTYPE=text/html:<h2>Light up the New Year in the Boat Club Bar!</h2>\n\n<div style="margin-left:auto\; margin-right:auto">\n<div>\n<p>Start the celebration with dinner in the Dining Room\, then ring in the New Year with a party in the Bar featuring sparklers\, a sparkling toast and &ldquo\;dessert drop&rdquo\; at midnight. Dinner reservations strongly suggested 406.863.4040.</p>\n</div>\n</div>\n\n<div style="margin-left:auto\; margin-right:auto">\n<div>\n<p><em>Drink service until 1a.</em></p>\n</div>\n</div>\n
LOCATION:The Lodge at Whitefish Lake 1380 Wisconsin Ave Whitefish
UID:e.148.76729
SEQUENCE:3
DTSTAMP:20260422T194724Z
URL:https://business.whitefishchamber.org/events/details/new-year-s-eve-party-in-the-boat-club-at-the-lodge-at-whitefish-lake-76729
END:VEVENT

END:VCALENDAR
