BEGIN:VCALENDAR
VERSION:2.0
PRODID:-//ChamberMaster//Event Calendar 2.0//EN
METHOD:PUBLISH
X-PUBLISHED-TTL:P3D
REFRESH-INTERVAL:P3D
CALSCALE:GREGORIAN
BEGIN:VEVENT
DTSTART:20260101T000000Z
DTEND:20260101T013000Z
X-MICROSOFT-CDO-ALLDAYEVENT:FALSE
SUMMARY:New Year's Eve Torchlight Parade and Fireworks
DESCRIPTION:New Year's Eve Torchlight Parade and Fireworks - December 31\n\nHelp us say goodbye to 2025 with a fiery Torchlight Parade and Fireworks to bring in the New Year. This event includes a torchlight parade (open to the public for spectators or participants) followed by fireworks under the big sky.\n\nThe Torchlight Parade and Fireworks will begin at 5:45pm\, just outside of Ed and Mully's Restaurant (3905 Big Mountain Road) in the Upper Village. The fireworks display will begin at the end of the Torchlight Parade.\n\nSpectators are encouraged to assemble at the bottom of Ed's Run\, near Ed & Mully's.\n\nNight Skiing on Chair 2 will close during the Torchlight. Chairs 3 and 6 will remain open.
X-ALT-DESC;FMTTYPE=text/html:<div>\n<p>New Year&#39\;s Eve Torchlight Parade and Fireworks - December 31</p>\n\n<p>Help us say goodbye to 2025 with a fiery Torchlight Parade and Fireworks to bring in the New Year. This event includes a torchlight parade (open to the public for spectators or participants) followed by fireworks under the big sky.</p>\n\n<p>The Torchlight Parade and Fireworks will begin at 5:45pm\, just outside of Ed and Mully&rsquo\;s Restaurant (3905 Big Mountain Road) in the&nbsp\;<a href="https://skiwhitefish.com/lodging-maps/" rel="nofollow noopener noreferrer" style="background-color: transparent\; color: rgb(54\, 89\, 227)\; box-sizing: border-box\;" target="_blank" title="https://skiwhitefish.com/lodging-maps/">Upper Village</a>. The fireworks display will begin at the end of the Torchlight Parade.</p>\n\n<p>Spectators are encouraged to assemble at the bottom of<a href="https://skiwhitefish.com/trail-maps/" rel="nofollow noopener noreferrer" style="background-color: transparent\; color: rgb(54\, 89\, 227)\; box-sizing: border-box\;" target="_blank" title="https://skiwhitefish.com/trail-maps/">&nbsp\;Ed&rsquo\;s Run</a>\, near Ed &amp\; Mully&rsquo\;s.</p>\n\n<p>Night Skiing on Chair 2 will close during the Torchlight. Chairs 3 and 6 will remain open.</p>\n</div>\n\n<div>\n<div style="margin-left:0px\; margin-right:0px\; text-align:center">&nbsp\;</div>\n</div>\n
LOCATION:Whitefish Mountain Resort
UID:e.148.77929
SEQUENCE:3
DTSTAMP:20260422T193536Z
URL:https://business.whitefishchamber.org/events/details/new-year-s-eve-torchlight-parade-and-fireworks-77929
END:VEVENT

END:VCALENDAR
