BEGIN:VCALENDAR
VERSION:2.0
PRODID:-//ChamberMaster//Event Calendar 2.0//EN
METHOD:PUBLISH
X-PUBLISHED-TTL:P3D
REFRESH-INTERVAL:P3D
CALSCALE:GREGORIAN
BEGIN:VEVENT
DTSTART:20260214T010000Z
DTEND:20260214T033000Z
X-MICROSOFT-CDO-ALLDAYEVENT:FALSE
SUMMARY:New Year's Resolution: Learn to Dance! Friday Evenings at Whitefish Community Center
DESCRIPTION:Learn to Dance with Debo Powers on Friday evenings at the Whitefish Community Center!\n\n\n\nNew Year's Resolution:  Learn to Dance\n\nBeginning on Friday\, January 2 at 6:00 pm.\n\nBeginner classes at 6:00 pm\n\nIntermediate classes at 7:15 pm\n\nStart the New Year off on the right foot!\n\nKick up your heels and learn the Swing\, Waltz & Two Step.\n\nEveryone is welcome at all levels so come join us and have some fun\n\n$5 per person
X-ALT-DESC;FMTTYPE=text/html:<br />\nLearn to Dance with Debo Powers on Friday evenings at the Whitefish Community Center!<br />\n<br />\nNew Year&#39\;s Resolution:&nbsp\; Learn to Dance<br />\nBeginning on Friday\, January 2 at 6:00 pm.<br />\nBeginner classes at 6:00 pm<br />\nIntermediate classes at 7:15 pm<br />\nStart the New Year off on the right foot!<br />\nKick up your heels and learn the Swing\, Waltz &amp\; Two Step.<br />\nEveryone is welcome at all levels so come join us and have some fun<br />\n$5 per person
LOCATION:Whitefish Community Center 121 E 2nd Street Whitefish\, MT 59937 (406)862-4923
UID:e.148.77689
SEQUENCE:3
DTSTAMP:20260422T221015Z
URL:https://business.whitefishchamber.org/events/details/new-year-s-resolution-learn-to-dance-friday-evenings-at-whitefish-community-center-02-13-2026-77689
END:VEVENT

END:VCALENDAR
