BEGIN:VCALENDAR
VERSION:2.0
PRODID:-//ChamberMaster//Event Calendar 2.0//EN
METHOD:PUBLISH
X-PUBLISHED-TTL:P3D
REFRESH-INTERVAL:P3D
CALSCALE:GREGORIAN
BEGIN:VEVENT
DTSTART:20260101T050000Z
DTEND:20260101T080000Z
X-MICROSOFT-CDO-ALLDAYEVENT:FALSE
SUMMARY:New Years Eve - Northern Lights Glow
DESCRIPTION:We're cranking up the neon\, turning up the volume\, and rewinding the clock to the most iconic decade ever! Celebrate New Year's Eve surrounded by glowing lights\, throwback jams\, and all the sparkle of the Northern Lights. Dress bold\, dance harder\, and get ready to glow into 2026 like it's 1985.
X-ALT-DESC;FMTTYPE=text/html:<span style="color:rgb(0\, 0\, 0)\; font-family:arial\; font-size:10pt">We&rsquo\;re cranking up the neon\, turning up the volume\, and rewinding the clock to the most iconic decade ever! Celebrate New Year&rsquo\;s Eve surrounded by glowing lights\, throwback jams\, and all the sparkle of the Northern Lights. Dress bold\, dance harder\, and get ready to glow into 2026 like it&rsquo\;s 1985.</span>
LOCATION:101 Central Ave
UID:e.148.77913
SEQUENCE:3
DTSTAMP:20260422T194054Z
URL:https://business.whitefishchamber.org/events/details/new-years-eve-northern-lights-glow-77913
END:VEVENT

END:VCALENDAR
