BEGIN:VCALENDAR
VERSION:2.0
PRODID:-//ChamberMaster//Event Calendar 2.0//EN
METHOD:PUBLISH
X-PUBLISHED-TTL:P3D
REFRESH-INTERVAL:P3D
CALSCALE:GREGORIAN
BEGIN:VEVENT
DTSTART:20251030T000000Z
DTEND:20251030T020000Z
X-MICROSOFT-CDO-ALLDAYEVENT:FALSE
SUMMARY:North Valley Music School & Amazing Place Music present "Wheels Of Harmony" - Sharing Indigenous Music and Culture with Montana's Students
DESCRIPTION:Opera Montana\, North Valley Music School\, and Amazing Place Music Present WHEELS OF HARMONY - Sharing Indigenous Music and Culture with Montana's Students\, sharing traditional music alongside opera and musical theatre. The performances are suitable for all ages. Here's a video from their first tour three years ago. https://www.youtube.com/watch?v=GbeGfam-Gh0&t=2s.  FREE to the community!
X-ALT-DESC;FMTTYPE=text/html:Opera Montana\, North Valley Music School\, and Amazing Place Music Present WHEELS OF HARMONY - Sharing Indigenous Music and Culture with Montana&#39\;s Students\,<span style="color: rgb(51\, 51\, 51)\; font-family: sans-serif\, Arial\, Verdana\, &quot\;Trebuchet MS&quot\;\; font-size: 13px\; background-color: rgb(255\, 255\, 255)\;">&nbsp\;s</span><span style="font-size: small\; color: rgb(34\, 34\, 34)\; font-family: arial\, helvetica\, sans-serif\;">haring traditional music alongside opera and musical theatre. The performances are suitable for all ages. Here&#39\;s a video from their first tour three years ago.&nbsp\;</span><a href="https://www.youtube.com/watch?v=GbeGfam-Gh0&amp\;t=2s" id="m_-7592708405982889584OWAd83ae40a-55d4-0653-b332-a2acfb16e9e7" style="color: rgb(17\, 85\, 204)\; font-size: small\; font-family: Arial\, Helvetica\, sans-serif\;" target="_blank">https://www.youtube.com/watch?v=GbeGfam-Gh0&amp\;t=2s</a>.&nbsp\;<span style="color: rgb(51\, 51\, 51)\; font-family: sans-serif\, Arial\, Verdana\, &quot\;Trebuchet MS&quot\;\; font-size: 13px\; background-color: rgb(255\, 255\, 255)\;">&nbsp\;</span>FREE to the community!&nbsp\;
LOCATION:North Valley Music School Stack Recital Hall 1998 River Lakes Parkway Whitefish\, Montana 59937
UID:e.148.76293
SEQUENCE:3
DTSTAMP:20260422T170609Z
URL:https://business.whitefishchamber.org/events/details/north-valley-music-school-amazing-place-music-present-wheels-of-harmony-sharing-indigenous-music-and-culture-with-montana-s-students-76293
END:VEVENT

END:VCALENDAR
