BEGIN:VCALENDAR
VERSION:2.0
PRODID:-//ChamberMaster//Event Calendar 2.0//EN
METHOD:PUBLISH
X-PUBLISHED-TTL:P3D
REFRESH-INTERVAL:P3D
CALSCALE:GREGORIAN
BEGIN:VEVENT
DTSTART:20260519T010000Z
DTEND:20260519T020000Z
X-MICROSOFT-CDO-ALLDAYEVENT:FALSE
SUMMARY:NVMS Spring Concert
DESCRIPTION:Join us in the Stack Recital Hall to hear what NVMS students have been working on this year.  Performances by the Glee Club\, the Bluegrass Jammers\, a quartet from Flathead Valley Youth Symphony\, and some student duets and ensembles.  Learn about the year behind and what's coming up at NVMS this summer.
X-ALT-DESC;FMTTYPE=text/html:Join us in the Stack Recital Hall to hear what NVMS students have been working on this year.&nbsp\; Performances by the Glee Club\, the Bluegrass Jammers\, a quartet from Flathead Valley Youth Symphony\, and some student duets and ensembles.&nbsp\; Learn about the year behind and what&#39\;s coming up at NVMS this summer.
LOCATION:Stack Recital Hall North Valley Music School 1998 River Lakes Parkway Whitefish\, MT 59937
UID:e.148.83572
SEQUENCE:3
DTSTAMP:20260423T001937Z
URL:https://business.whitefishchamber.org/events/details/nvms-spring-concert-83572
END:VEVENT

END:VCALENDAR
