BEGIN:VCALENDAR
VERSION:2.0
PRODID:-//ChamberMaster//Event Calendar 2.0//EN
METHOD:PUBLISH
X-PUBLISHED-TTL:P3D
REFRESH-INTERVAL:P3D
CALSCALE:GREGORIAN
BEGIN:VEVENT
DTSTART:20260502T233000Z
DTEND:20260503T040000Z
X-MICROSOFT-CDO-ALLDAYEVENT:FALSE
SUMMARY:Paddling Film Festival
DESCRIPTION:Join Montana Kayak Academy and Flathead Rivers Alliance at their annual fundraising event. Watch films from around the world\, win amazing prizes\, and meet new river enthusiasts.
X-ALT-DESC;FMTTYPE=text/html:Join Montana Kayak Academy and Flathead Rivers Alliance at their annual fundraising event. Watch films from around the world\, win amazing prizes\, and meet new river enthusiasts.&nbsp\;
LOCATION:O'Shaughnessy Center 1 Central Ave\, Whitefish\, MT 59937
UID:e.148.83563
SEQUENCE:3
DTSTAMP:20260423T002122Z
URL:https://business.whitefishchamber.org/events/details/paddling-film-festival-83563
END:VEVENT

END:VCALENDAR
