BEGIN:VCALENDAR
VERSION:2.0
PRODID:-//ChamberMaster//Event Calendar 2.0//EN
METHOD:PUBLISH
X-PUBLISHED-TTL:P3D
REFRESH-INTERVAL:P3D
CALSCALE:GREGORIAN
BEGIN:VEVENT
DTSTART:20251116T160000Z
DTEND:20251116T170000Z
X-MICROSOFT-CDO-ALLDAYEVENT:FALSE
SUMMARY:PEAK Fit & Wellness Charity Workout to benefit the Nate Chute Foundation
DESCRIPTION:Join PEAK Fit & Wellness for a super fun and energetic free/donation based workout to benefit the Nate Chute Foundation this Sunday\, November 13th at 9am.\n\nRegister at PEAKFITMT.com
X-ALT-DESC;FMTTYPE=text/html:Join PEAK Fit &amp\; Wellness for a super fun and energetic free/donation based workout to benefit the Nate Chute Foundation this Sunday\, November 13th at 9am.<br />\nRegister at PEAKFITMT.com&nbsp\;&nbsp\;
LOCATION:
UID:e.148.76715
SEQUENCE:3
DTSTAMP:20260422T171037Z
URL:https://business.whitefishchamber.org/events/details/peak-fit-wellness-charity-workout-to-benefit-the-nate-chute-foundation-76715
END:VEVENT

END:VCALENDAR
