BEGIN:VCALENDAR
VERSION:2.0
PRODID:-//ChamberMaster//Event Calendar 2.0//EN
METHOD:PUBLISH
X-PUBLISHED-TTL:P3D
REFRESH-INTERVAL:P3D
CALSCALE:GREGORIAN
BEGIN:VEVENT
DTSTART:20251130T020000Z
DTEND:20251130T060000Z
X-MICROSOFT-CDO-ALLDAYEVENT:FALSE
SUMMARY:Pray for Snow Party
DESCRIPTION:Winter is coming... and we're throwing down to welcome it in style! Join us for the Pray for Snow Party\, a high-energy fundraiser to support the SNOW Bus   Whitefish's beloved FREE ski shuttle to Whitefish Mountain Resort.\n\nCome celebrate the start of the snow season with films\, DJ\, raffle prizes\, drink specials\, and a full-on snow dance! All proceeds help keep the SNOW Bus rolling   keeping our community connected\, safe\, and slope-bound all winter long.\n\nBring your stoke\, your snow dance moves\, and your love for local mountain life. Let's make it snow\, Whitefish!
X-ALT-DESC;FMTTYPE=text/html:<p style="text-align:center">Winter is coming... and we&rsquo\;re throwing down to welcome it in style! Join us for the <strong>Pray for Snow Party</strong>\, a high-energy fundraiser to support the <strong>SNOW Bus</strong> &ndash\; Whitefish&rsquo\;s beloved FREE ski shuttle to Whitefish Mountain Resort.</p>\n\n<p style="text-align:center">Come celebrate the start of the snow season with films\, DJ\, raffle prizes\, drink specials\, and a full-on snow dance! All proceeds help keep the SNOW Bus rolling &mdash\; keeping our community connected\, safe\, and slope-bound all winter long.</p>\n\n<p style="text-align:center">Bring your stoke\, your snow dance moves\, and your love for local mountain life. Let&rsquo\;s make it snow\, Whitefish!</p>\n
LOCATION:Montana Tap House 845 Wisconsin Ave Whitefish\, MT 59937
UID:e.148.77377
SEQUENCE:3
DTSTAMP:20260422T170101Z
URL:https://business.whitefishchamber.org/events/details/pray-for-snow-party-77377
END:VEVENT

END:VCALENDAR
