BEGIN:VCALENDAR
VERSION:2.0
PRODID:-//ChamberMaster//Event Calendar 2.0//EN
METHOD:PUBLISH
X-PUBLISHED-TTL:P3D
REFRESH-INTERVAL:P3D
CALSCALE:GREGORIAN
BEGIN:VEVENT
DTSTART:20260227T020000Z
DTEND:20260227T050000Z
X-MICROSOFT-CDO-ALLDAYEVENT:FALSE
SUMMARY:Raising Hell Roaring - The Big Mountain Story\, Chapter One
DESCRIPTION:Raising Hell Roaring is a homegrown multimedia\, feature length presentation that tells the story of skiing on Big Mountain and throughout the region\, from Logan Pass to the Cabinet Mountains\, from the 1930's to the end of its first millennium. Utilizing rare archival film footage\, photos\, books\, letters and first-hand accounts\, the stories from seven decades of skiing are presented in a fast-paced\, sometimes hilarious and occasionally tragic manner that will be appreciated by newcomers and long-time participants alike.
X-ALT-DESC;FMTTYPE=text/html:<p>Raising Hell Roaring is a homegrown multimedia\, feature length presentation that tells the story of skiing on Big Mountain and throughout the region\, from Logan Pass to the Cabinet Mountains\, from the 1930&rsquo\;s to the end of its first millennium. Utilizing rare archival film footage\, photos\, books\, letters and first-hand accounts\, the stories from seven decades of skiing are presented in a fast-paced\, sometimes hilarious and occasionally tragic manner that will be appreciated by newcomers and long-time participants alike.</p>\n
LOCATION:Whitefish Performing Arts Center 107 Spokane Avenue Whitefish
UID:e.148.83064
SEQUENCE:3
DTSTAMP:20260422T205642Z
URL:https://business.whitefishchamber.org/events/details/raising-hell-roaring-the-big-mountain-story-chapter-one-83064
END:VEVENT

END:VCALENDAR
