BEGIN:VCALENDAR
VERSION:2.0
PRODID:-//ChamberMaster//Event Calendar 2.0//EN
METHOD:PUBLISH
X-PUBLISHED-TTL:P3D
REFRESH-INTERVAL:P3D
CALSCALE:GREGORIAN
BEGIN:VEVENT
DTSTART;VALUE=DATE:20260316
DTEND;VALUE=DATE:20260317
TRANSP:TRANSPARENT
X-MICROSOFT-CDO-ALLDAYEVENT:TRUE
SUMMARY:Retiree Workforce Brunch - Don't Retire. ReWIRE
DESCRIPTION:Retirement is changing\, and so are the opportunities that come with it!\n\nJoin Kalispell Chamber\, FVCC\, Job Service and My Glacier Village for a free Retiree Workforce Brunch. \n\nMarch 16th from 9:30 to 11:00 a.m. at the Flathead Valley Community College Arts & Technology Building.\n\nThis welcoming event connects retirees and near-retirees with local employers\, volunteer opportunities and meaningful ways to stay engaged\, earn income\, and share a lifetime of experience. Coffee and pastries provided\n\nDon't Retire. ReWIRE!\n\nRegister:https://dailyinterlake.com/Retiree Brunch\n\nCall: My Glacier Village: 406-250-8784?
X-ALT-DESC;FMTTYPE=text/html:<p>Retirement is changing\, and so are the opportunities that come with it!</p>\n\n<p>Join Kalispell Chamber\, FVCC\, Job Service and My Glacier Village for a <strong>free&nbsp\;</strong>Retiree Workforce Brunch.&nbsp\;</p>\n\n<p>March 16th from 9:30 to 11:00 a.m. at the Flathead Valley Community College Arts &amp\; Technology Building.</p>\n\n<p>This welcoming event connects retirees and near-retirees with local employers\, volunteer opportunities and meaningful ways to stay engaged\, earn income\, and share a lifetime of experience. Coffee and pastries provided</p>\n\n<p><strong>Don&#39\;t Retire. ReWIRE!</strong></p>\n\n<p><strong>Register:</strong><a href="https://dailyinterlake.com/events/?_evDiscoveryPath=/event/219119x-retiree-workforce-brunch" style="color: rgb(17\, 85\, 204)\;" target="_blank">https://dailyinterlake.com/Retiree Brunch</a></p>\n\n<p><strong>Call: My Glacier Village: 406-250-8784?</strong></p>\n
LOCATION:FVCC Arts & Teach Building
UID:e.148.83067
SEQUENCE:3
DTSTAMP:20260422T220832Z
URL:https://business.whitefishchamber.org/events/details/retiree-workforce-brunch-don-t-retire-rewire-83067
END:VEVENT

END:VCALENDAR
