BEGIN:VCALENDAR
VERSION:2.0
PRODID:-//ChamberMaster//Event Calendar 2.0//EN
METHOD:PUBLISH
X-PUBLISHED-TTL:P3D
REFRESH-INTERVAL:P3D
CALSCALE:GREGORIAN
BEGIN:VEVENT
DTSTART:20251108T003000Z
DTEND:20251108T030000Z
X-MICROSOFT-CDO-ALLDAYEVENT:FALSE
SUMMARY:Stargazing on the Trail- Comet Edition!
DESCRIPTION:Join WLP and the Big Sky Astronomy Club for a memorable night under the stars!  As clocks fall back and darkness arrives earlier\, it's the perfect time to enjoy the night sky! See Saturn and its rings shining in the southeast\, along with two visiting comets Comet Lemmon and Comet Swan. Through our telescopes\, also view distant galaxies\, glowing nebulae\, and dazzling star clusters scattered across the autumn sky.\n\nPlease bring your own chairs and blankets and dress warmly. Bring binoculars and a red filtered flashlight if you have them. \n\nHot cocoa and adult refreshments will be provided!\n\n*NOTE: In case of poor weather\, we will post on instagram/facebook about cancellation and will cancel the event via email to all registered individuals by 3pm the day of the event.\n\nThis program is free and family friendly! When you RSVP\, be sure to do so for each member of your party and cancel if you change plans.\n\nFor more information about this event and other community education programs\, call 406-862-3880 or email wteducation@whitefishlegacy.org.
X-ALT-DESC;FMTTYPE=text/html:<p style="text-align:initial">Join WLP and the Big Sky Astronomy Club for a&nbsp\;memorable night under the stars! &nbsp\;As clocks fall back and darkness arrives earlier\, it&rsquo\;s the perfect time to enjoy the night sky! See <strong>Saturn</strong>&nbsp\;and its rings shining in the southeast\, along with two visiting comets&mdash\;<strong>Comet Lemmon</strong>&nbsp\;and <strong>Comet Swan</strong>. Through our telescopes\, also view distant <strong>galaxies</strong>\, glowing <strong>nebulae</strong>\, and dazzling <strong>star clusters</strong>&nbsp\;scattered across the autumn sky.</p>\n\n<p style="text-align:initial">Please bring your own chairs and blankets and dress warmly. Bring binoculars and a red filtered flashlight if you have them.&nbsp\;</p>\n\n<p style="text-align:initial"><strong>Hot cocoa and adult refreshments will be provided!</strong></p>\n\n<p style="text-align:initial"><strong>*NOTE: </strong>In case of poor weather\, we will post on instagram/facebook about cancellation and will cancel the event via email to all registered individuals by 3pm the day of the event.</p>\n\n<p style="text-align:initial"><strong>This program is free and family friendly! When you RSVP\, be sure to do so for each member of your party and cancel if you change plans.</strong></p>\n\n<p style="text-align:initial">For more information about this event and other community education programs\, call 406-862-3880 or email wteducation@whitefishlegacy.org.</p>\n
LOCATION:Holbrook Overlook Trailhead 2930 Big Mountain Rd\, Whitefish\, MT 59937\, USA
UID:e.148.76576
SEQUENCE:3
DTSTAMP:20260422T170131Z
URL:https://business.whitefishchamber.org/events/details/stargazing-on-the-trail-comet-edition-76576
END:VEVENT

END:VCALENDAR
