BEGIN:VCALENDAR
VERSION:2.0
PRODID:-//ChamberMaster//Event Calendar 2.0//EN
METHOD:PUBLISH
X-PUBLISHED-TTL:P3D
REFRESH-INTERVAL:P3D
CALSCALE:GREGORIAN
BEGIN:VEVENT
DTSTART:20260511T230000Z
DTEND:20260512T010000Z
X-MICROSOFT-CDO-ALLDAYEVENT:FALSE
SUMMARY:DREAM Summer Volunteer Kick Off Party
DESCRIPTION:Summer Volunteer Kick Off Party @ Blackstar-Second Floor\n\n\n\nFirst beverage of choice for volunteer is on us! Stop by to say hello\, meet the team\, or to learn more about volunteering.\n\n\n\nAny volunteers who have completed their required computer based training will be eligible for some DREAM Swag!
X-ALT-DESC;FMTTYPE=text/html:<span style="color:rgb(34\, 34\, 34)\; font-family:arial\,helvetica\,sans-serif\; font-size:small">Summer Volunteer Kick Off Party @ Blackstar-Second Floor<br />\n<br />\nFirst beverage of choice for volunteer&nbsp\;is on us! Stop by to say hello\, meet the team\, or to learn more about volunteering.<br />\n<br />\nAny volunteers who have completed their required computer based training will be eligible for some DREAM Swag!&nbsp\; &nbsp\;</span>
LOCATION:Blackstar Whitefish
UID:e.148.83579
SEQUENCE:3
DTSTAMP:20260423T002100Z
URL:https://business.whitefishchamber.org/events/details/summer-volunteer-kick-off-party-83579
END:VEVENT

END:VCALENDAR
