BEGIN:VCALENDAR
VERSION:2.0
PRODID:-//ChamberMaster//Event Calendar 2.0//EN
METHOD:PUBLISH
X-PUBLISHED-TTL:P3D
REFRESH-INTERVAL:P3D
CALSCALE:GREGORIAN
BEGIN:VEVENT
DTSTART:20251127T180000Z
DTEND:20251127T230000Z
X-MICROSOFT-CDO-ALLDAYEVENT:FALSE
SUMMARY:Thanksgiving Dinner at Logan's Bar and Grill
DESCRIPTION:Join us for a midday buffet with all the Thanksgiving classics\, from hand-carved turkey and honey roasted ham to spiced acorn squash and seasonal desserts from 11 am to 4pm. \n\nLight menu available from 5-8 pm.\n\n\n\nReserve your table at Loganswhitefish.com
X-ALT-DESC;FMTTYPE=text/html:<p>Join us for a midday buffet with all the Thanksgiving classics\, from hand-carved turkey and honey roasted ham to spiced acorn squash and seasonal desserts from 11 am to 4pm.&nbsp\;</p>\n\n<p>Light menu available from 5-8 pm.<br />\n<br />\nReserve your table at Loganswhitefish.com&nbsp\;</p>\n
LOCATION:2 Fairway Drive Whitefish Montana 59937
UID:e.148.76582
SEQUENCE:3
DTSTAMP:20260422T170228Z
URL:https://business.whitefishchamber.org/events/details/thanksgiving-dinner-at-logan-s-bar-and-grill-76582
END:VEVENT

END:VCALENDAR
