BEGIN:VCALENDAR
VERSION:2.0
PRODID:-//ChamberMaster//Event Calendar 2.0//EN
METHOD:PUBLISH
X-PUBLISHED-TTL:P3D
REFRESH-INTERVAL:P3D
CALSCALE:GREGORIAN
BEGIN:VEVENT
DTSTART:20260312T190000Z
DTEND:20260312T210000Z
X-MICROSOFT-CDO-ALLDAYEVENT:FALSE
SUMMARY:The Art of Aging Well
DESCRIPTION:The Art of Aging Well Workshop series\; the topic for March is "Becoming Your Own Best Health Advocate." You will get advice on navigating healthcare with confidence by understanding medications and health records and by learning to build relationships with your providers.  You will leave with advice on preventative screenings and a healthy aging checklist.
X-ALT-DESC;FMTTYPE=text/html:The Art of Aging Well Workshop series\; the topic for March is &quot\;Becoming Your Own Best Health Advocate.&quot\; You will get advice on navigating healthcare with confidence by understanding medications and health records and by learning to build relationships with your providers.&nbsp\; You will leave with advice on preventative screenings and a healthy aging checklist.&nbsp\;<br />\n<br />\n<br />\n<br />\n<br />\n<br />\n&nbsp\;
LOCATION:Kalispell Parks and Rec Office 15 Depot Park Kalispell\, MT
UID:e.148.83101
SEQUENCE:3
DTSTAMP:20260422T231518Z
URL:https://business.whitefishchamber.org/events/details/the-art-of-aging-well-83101
END:VEVENT

END:VCALENDAR
