BEGIN:VCALENDAR
VERSION:2.0
PRODID:-//ChamberMaster//Event Calendar 2.0//EN
METHOD:PUBLISH
X-PUBLISHED-TTL:P3D
REFRESH-INTERVAL:P3D
CALSCALE:GREGORIAN
BEGIN:VEVENT
DTSTART:20251113T190000Z
DTEND:20251113T193000Z
X-MICROSOFT-CDO-ALLDAYEVENT:FALSE
SUMMARY:The Immunity Secrets Everyone Misses
DESCRIPTION:Join Dr. Mackenzie Vetter from Compass Chiropractic and the team at Haskill Creek for a quick mid-day wellness boost designed to help you stay strong this season. Plus enjoy a free beverage from Haskill Creek Cafe!\n\n\n\nYou'll learn practical\, everyday tips to: \n\n	Identify hidden stressors that impact immunity\n	Support your body's natural immune defenses\n	Integrate movement\, mindset\, and nutrition for better resilience\n	Discover natural immune-boosting supplements available right at Haskill Creek
X-ALT-DESC;FMTTYPE=text/html:Join Dr. Mackenzie Vetter from Compass Chiropractic and the team at Haskill Creek for a quick mid-day wellness boost designed to help you stay strong this season. Plus enjoy a free beverage from Haskill Creek Cafe!<br />\n<br />\n<span style="color:rgba(30\,48\,38\,var(--O42jJQ\,1))">You&rsquo\;ll learn practical\, everyday tips to:&nbsp\;</span>\n<ul>\n	<li><span style="color:rgba(30\,48\,38\,var(--O42jJQ\,1))">Identify hidden stressors that impact immunity</span></li>\n	<li><span style="color:rgba(30\,48\,38\,var(--O42jJQ\,1))">Support your body&rsquo\;s natural immune defenses</span></li>\n	<li><span style="color:rgba(30\,48\,38\,var(--O42jJQ\,1))">Integrate movement\, mindset\, and nutrition for better&nbsp\;</span><span style="color:rgba(30\,48\,38\,var(--O42jJQ\,1))"><span style="color:rgba(30\,48\,38\,var(--O42jJQ\,1))">resilience</span></span></li>\n	<li>Discover natural immune-boosting supplements available right at Haskill Creek</li>\n</ul>\n\n<p>&nbsp\;</p>\n
LOCATION:Haskill Creek 55 Baker Ave. Whitefish\, MT. 59937
UID:e.148.76578
SEQUENCE:3
DTSTAMP:20260422T170218Z
URL:https://business.whitefishchamber.org/events/details/the-immunity-secrets-everyone-misses-76578
END:VEVENT

END:VCALENDAR
