BEGIN:VCALENDAR
VERSION:2.0
PRODID:-//ChamberMaster//Event Calendar 2.0//EN
METHOD:PUBLISH
X-PUBLISHED-TTL:P3D
REFRESH-INTERVAL:P3D
CALSCALE:GREGORIAN
BEGIN:VEVENT
DTSTART:20250710T210000Z
DTEND:20250711T000000Z
X-MICROSOFT-CDO-ALLDAYEVENT:FALSE
SUMMARY:The Title Team Ribbon Cutting and Open House
DESCRIPTION:Please join us for our Open house to celebrate our new office location in Whitefish with ribbon cutting @ 4pm.
X-ALT-DESC;FMTTYPE=text/html:Please join us for our Open house to celebrate our new office location in Whitefish with ribbon cutting @ 4pm.
LOCATION:The Title Team 130 Lupfer Ave. Whitefish\, MT 59937
UID:e.148.75936
SEQUENCE:3
DTSTAMP:20260422T120200Z
URL:https://business.whitefishchamber.org/events/details/the-title-team-ribbon-cutting-and-open-house-07-10-2025-75936
END:VEVENT

END:VCALENDAR
