BEGIN:VCALENDAR
VERSION:2.0
PRODID:-//ChamberMaster//Event Calendar 2.0//EN
METHOD:PUBLISH
X-PUBLISHED-TTL:P3D
REFRESH-INTERVAL:P3D
CALSCALE:GREGORIAN
BEGIN:VEVENT
DTSTART:20260215T010000Z
DTEND:20260215T040000Z
X-MICROSOFT-CDO-ALLDAYEVENT:FALSE
SUMMARY:Valentine's Day live music with Judy Maloney in the Boat Club
DESCRIPTION:Treat your sweetheart to live music featuring harpist Judy Maloney along with a romantic dinner featuring a delicious 3-course dinner overlooking beautiful Whitefish Lake.\n\n\n\n\n\nIn addition to our regular menu\, we will be offering a chef inspired 3-course tasting menu with selections in each of the courses along with optional wine pairings. $110 per person / Wine pairings additional $47 per person. Reservations highly suggested 406.863.4040. \n\n\n\nClick here for more information.
X-ALT-DESC;FMTTYPE=text/html:<div style="margin-left:auto\; margin-right:auto">\n<div>\n<p>Treat your sweetheart to live music featuring harpist Judy Maloney along with a romantic dinner featuring a delicious 3-course dinner overlooking beautiful Whitefish Lake.</p>\n</div>\n</div>\n\n<div style="margin-left:auto\; margin-right:auto">\n<div>\n<p>In addition to our regular menu\, we will be offering a chef inspired 3-course tasting menu with selections in each of the courses along with optional wine pairings. $110 per person / Wine pairings additional $47 per person.&nbsp\;Reservations highly suggested 406.863.4040.&nbsp\;<br />\n<br />\n<a href="https://lodgeatwhitefishlake.com/events/valentines-dinner/c1f5cdc8-bd7e-40f8-811d-fc06b1c3abd2">Click here</a> for more information.</p>\n</div>\n</div>\n
LOCATION:The Boat Club at The Lodge at Whitefish Lake 1380 Wisconsin Avenue Whitefish\, MT
UID:e.148.83049
SEQUENCE:3
DTSTAMP:20260422T210710Z
URL:https://business.whitefishchamber.org/events/details/valentine-s-day-live-music-with-judy-maloney-in-the-boat-club-83049
END:VEVENT

END:VCALENDAR
