BEGIN:VCALENDAR
VERSION:2.0
PRODID:-//ChamberMaster//Event Calendar 2.0//EN
METHOD:PUBLISH
X-PUBLISHED-TTL:P3D
REFRESH-INTERVAL:P3D
CALSCALE:GREGORIAN
BEGIN:VEVENT
DTSTART:20250706T160000Z
DTEND:20250706T220000Z
X-MICROSOFT-CDO-ALLDAYEVENT:FALSE
SUMMARY:Whitefish Arts Festival 2025
DESCRIPTION:Whitefish Arts Festival\n\n\n\n\n\nThis year marked the 46th annual Whitefish Arts Festival. It is an event that has become a highlight for many over the 4th of July weekend and is sponsored by Whitefish Christian Academy. An annual favorite throughout the Northwest\, the Whitefish Arts Festival maintains a long tradition of high quality arts and fine crafts. Whitefish is a picturesque village nestled in the Flathead Valley of Montana featuring beautiful lakes\, majestic mountains and friendly folks strolling the streets during the 4th of July weekend.\n\nArtists from across the country are represented in the Whitefish Arts Festival. Metal sculptures\, paintings and photography\, woodworking\, pottery\, jewelry\, clothing\, and home decorations are just some of the featured fine arts. There is always a variety of Montana style art available. All of the art is handmade.
X-ALT-DESC;FMTTYPE=text/html:<div class="elementor-element elementor-element-c9a7b00 elementor-widget elementor-widget-heading" data-element_type="widget" data-id="c9a7b00" data-widget_type="heading.default" style="box-sizing: border-box\; --flex-direction: initial\; --flex-wrap: initial\; --justify-content: initial\; --align-items: initial\; --align-content: initial\; --gap: initial\; --flex-basis: initial\; --flex-grow: initial\; --flex-shrink: initial\; --order: initial\; --align-self: initial\; flex: 0 1 auto\; order: 0\; align-self: auto\; flex-flow: row\; place-content: normal\; align-items: normal\; gap: normal\; position: relative\; --swiper-theme-color: #000\; --swiper-navigation-size: 44px\; --swiper-pagination-bullet-size: 6px\; --swiper-pagination-bullet-horizontal-gap: 6px\; --widgets-spacing: 20px 20px\; width: 520px\; margin-bottom: 20px\; margin-block-end: 20px\; text-align: center\; color: rgba(0\, 0\, 0\, 0.65)\; font-family: &quot\;Work Sans&quot\;\, sans-serif\; font-size: 16px\; background-color: rgb(248\, 249\, 249)\;">\n<div class="elementor-widget-container" style="box-sizing: border-box\; transition: background 0.3s\, border 0.3s\, border-radius 0.3s\, box-shadow 0.3s\, transform 0.4s\;">\n<h1 class="elementor-heading-title elementor-size-default" style="box-sizing: border-box\; border: 0px\; font-size: 3rem\; font-style: inherit\; margin: 0px\; outline: 0px\; padding: 0px\; vertical-align: baseline\; clear: both\; color: rgb(0\, 0\, 0)\; line-height: 0.9em\; font-family: &quot\;DM Serif Display&quot\;\, serif\;">Whitefish Arts Festival</h1>\n</div>\n</div>\n\n<div class="elementor-element elementor-element-494b65d elementor-widget elementor-widget-text-editor" data-element_type="widget" data-id="494b65d" data-widget_type="text-editor.default" style="box-sizing: border-box\; --flex-direction: initial\; --flex-wrap: initial\; --justify-content: initial\; --align-items: initial\; --align-content: initial\; --gap: initial\; --flex-basis: initial\; --flex-grow: initial\; --flex-shrink: initial\; --order: initial\; --align-self: initial\; flex: 0 1 auto\; order: 0\; align-self: auto\; flex-flow: row\; place-content: normal\; align-items: normal\; gap: normal\; position: relative\; --swiper-theme-color: #000\; --swiper-navigation-size: 44px\; --swiper-pagination-bullet-size: 6px\; --swiper-pagination-bullet-horizontal-gap: 6px\; --widgets-spacing: 20px 20px\; width: 520px\; color: rgba(0\, 0\, 0\, 0.65)\; font-family: &quot\;Work Sans&quot\;\, sans-serif\; font-size: 16px\; background-color: rgb(248\, 249\, 249)\;">\n<div class="elementor-widget-container" style="box-sizing: border-box\; transition: background 0.3s\, border 0.3s\, border-radius 0.3s\, box-shadow 0.3s\, transform 0.4s\;">\n<p style="box-sizing: border-box\; border: 0px\; font-style: inherit\; font-weight: inherit\; margin: 0px 0px 1.6em\; outline: 0px\; padding: 0px\; vertical-align: baseline\;">This year marked the 46th annual Whitefish Arts Festival. It is an event that has become a highlight for many over the 4th of July weekend and is sponsored by Whitefish Christian Academy. An annual favorite throughout the Northwest\, the Whitefish Arts Festival maintains a long tradition of high quality arts and fine crafts. Whitefish is a picturesque village nestled in the Flathead Valley of Montana featuring beautiful lakes\, majestic mountains and friendly folks strolling the streets during the 4th of July weekend.</p>\n\n<p style="box-sizing: border-box\; border: 0px\; font-style: inherit\; font-weight: inherit\; margin: 0px 0px 1.6em\; outline: 0px\; padding: 0px\; vertical-align: baseline\;">Artists from across the country are represented in the Whitefish Arts Festival. Metal sculptures\, paintings and photography\, woodworking\, pottery\, jewelry\, clothing\, and home decorations are just some of the featured fine arts. There is always a variety of Montana style art available. All of the art is handmade.</p>\n</div>\n</div>\n
LOCATION:Depot Park\, Downtown Whitefish in front of the train station
UID:e.148.75995
SEQUENCE:3
DTSTAMP:20260422T120201Z
URL:https://business.whitefishchamber.org/events/details/whitefish-arts-festival-2024-07-06-2025-75995
END:VEVENT

END:VCALENDAR
