BEGIN:VCALENDAR
VERSION:2.0
PRODID:-//ChamberMaster//Event Calendar 2.0//EN
METHOD:PUBLISH
X-PUBLISHED-TTL:P3D
REFRESH-INTERVAL:P3D
CALSCALE:GREGORIAN
BEGIN:VEVENT
DTSTART:20251130T030000Z
DTEND:20251130T050000Z
X-MICROSOFT-CDO-ALLDAYEVENT:FALSE
SUMMARY:Whitefish Caberet: Christmas Edition
DESCRIPTION:Whitefish Cabaret Unfiltered. Unhinged. Unapologetically Local. The Whitefish Caberet is back on Santa's naughty list and it's no surprise! These bad boys and girls are baking up a hilarious holiday offering of their 2025 season with all the trimmings! Sketch comedy! Song parodies! General silliness! And of course\, a helping of local humor and social commentary! Celebrate the season and laugh the year away with the Whitefish Caberet: Christmas Edition! Expect original songs\, sketch comedy\, and laugh-out-loud moments that toe the line and then dance right over it. It's bold. It's brilliant. And it's the most fun you can have without getting canceled.
X-ALT-DESC;FMTTYPE=text/html:Whitefish Cabaret Unfiltered. Unhinged. Unapologetically Local. The Whitefish Caberet is back on Santa&#39\;s naughty list and it&#39\;s no surprise! These bad boys and girls are baking up a hilarious holiday offering of their 2025 season with all the trimmings! Sketch comedy! Song parodies! General silliness! And of course\, a helping of local humor and social commentary! Celebrate the season and laugh the year away with the Whitefish Caberet: Christmas Edition! Expect original songs\, sketch comedy\, and laugh-out-loud moments that toe the line and then dance right over it. It&rsquo\;s bold. It&rsquo\;s brilliant. And it&rsquo\;s the most fun you can have without getting canceled.
LOCATION:101 Central Ave Whitefish\, MT 59937 Second Story
UID:e.148.76353
SEQUENCE:3
DTSTAMP:20260422T170348Z
URL:https://business.whitefishchamber.org/events/details/whitefish-caberet-christmas-edition-11-29-2025-76353
END:VEVENT

END:VCALENDAR
