BEGIN:VCALENDAR
VERSION:2.0
PRODID:-//ChamberMaster//Event Calendar 2.0//EN
METHOD:PUBLISH
X-PUBLISHED-TTL:P3D
REFRESH-INTERVAL:P3D
CALSCALE:GREGORIAN
BEGIN:VEVENT
DTSTART:20260123T010000Z
DTEND:20260123T040000Z
X-MICROSOFT-CDO-ALLDAYEVENT:FALSE
SUMMARY:Whitefish Chamber's 2026 Community Awards Gala ~ Out Of This World
DESCRIPTION:Join us for the \n\nTHE WHITEFISH CHAMBER'S COMMUNITY AWARDS GALA\n\n\n\nThursday\, January 22\, 2026 at  Grouse Mountain Lodge\n\n\n\n6 pm ~ INTERGALACTIC HAPPY HOUR\n\n* No-host bar and heavy appetizers *\n\n* Best-Dressed Alien contest *\n\n* OUT OF THIS WORLD Selfie Station *\n\n\n\n7 pm ~ THE INVASION BEGINS!\n\n* Ambassador of the Year *\n\n* Volunteer of the Year *\n\n* Business of the Year *\n\n* Tourism Business of the Year *\n\n* Citizen of the Year *\n\n* The Great Whitefish Award *\n\n\n\nPlease RSVP by Friday\, January 16\, 2026 by purchasing your tickets online.\n\nFor questions\, call 406-862-3501 or email events@whitefishchamber.org
X-ALT-DESC;FMTTYPE=text/html:<span style="color:#8B4513\;"><span style="font-size:22px\;">Join us for the </span></span><br />\nTHE WHITEFISH CHAMBER&#39\;S COMMUNITY AWARDS GALA<br />\n<br />\nThursday\, January 22\, 2026 at&nbsp\; Grouse Mountain Lodge<br />\n<br />\n6 pm ~ INTERGALACTIC HAPPY HOUR<br />\n* No-host bar and heavy appetizers *<br />\n* Best-Dressed Alien contest *<br />\n* OUT OF THIS WORLD Selfie Station *<br />\n<br />\n7 pm ~ THE INVASION BEGINS!<br />\n* Ambassador of the Year *<br />\n* Volunteer of the Year *<br />\n* Business of the Year *<br />\n* Tourism Business of the Year *<br />\n* Citizen of the Year *<br />\n* The Great Whitefish Award *<br />\n<br />\nPlease RSVP by Friday\, January 16\, 2026 by purchasing your tickets online.<br />\nFor questions\, call&nbsp\;406-862-3501 or email events@whitefishchamber.org
LOCATION:Grouse Mountain Lodge Continental Divide Ballroom 2 Fairway Drive\, Whitefish MT 59937
UID:e.148.77480
SEQUENCE:3
DTSTAMP:20260422T194911Z
URL:https://business.whitefishchamber.org/events/details/whitefish-chamber-s-2026-community-awards-gala-out-of-this-world-77480
END:VEVENT

END:VCALENDAR
