BEGIN:VCALENDAR
VERSION:2.0
PRODID:-//ChamberMaster//Event Calendar 2.0//EN
METHOD:PUBLISH
X-PUBLISHED-TTL:P3D
REFRESH-INTERVAL:P3D
CALSCALE:GREGORIAN
BEGIN:VEVENT
DTSTART;VALUE=DATE:20260213
DTEND;VALUE=DATE:20260216
TRANSP:TRANSPARENT
X-MICROSOFT-CDO-ALLDAYEVENT:TRUE
SUMMARY:Whitefish Marine at the Flathead Valley Boat Show
DESCRIPTION:The Flathead Valley Boat Show is just around the corner! Visit Whitefish Marine at the Flathead County Fairgrounds in Kalispell on February 13th\, 14th\, and 15th for unbeatable deals on our entire boat lineup. Browse new inventory from industry leading brands like Tige\, Supra\, ATX and Moomba Surf Boats\, Harris Pontoons\, Sea Ray\, Yamaha Jet Boats\, Boston Whaler\, Crestliner and more. Find the best boat bargains of the season plus your chance to win a $1000 rental credit or a Slingshot Foil Board package valued at $2000!
X-ALT-DESC;FMTTYPE=text/html:The Flathead Valley Boat Show is just around the corner!&nbsp\;Visit Whitefish Marine at the Flathead County Fairgrounds in Kalispell on February 13th\, 14th\, and 15th for unbeatable deals on our entire boat lineup. Browse new inventory from industry leading brands like Tige\, Supra\, ATX and Moomba Surf Boats\, Harris Pontoons\, Sea Ray\, Yamaha Jet Boats\, Boston Whaler\, Crestliner and more.&nbsp\;Find the best boat bargains of the season plus your chance to win a $1000 rental credit or a Slingshot Foil Board package valued at $2000!
LOCATION:Flathead County Fairgrounds
UID:e.148.83024
SEQUENCE:3
DTSTAMP:20260422T215931Z
URL:https://business.whitefishchamber.org/events/details/whitefish-marine-at-the-flathead-valley-boat-show-83024
END:VEVENT

END:VCALENDAR
