BEGIN:VCALENDAR
VERSION:2.0
PRODID:-//ChamberMaster//Event Calendar 2.0//EN
METHOD:PUBLISH
X-PUBLISHED-TTL:P3D
REFRESH-INTERVAL:P3D
CALSCALE:GREGORIAN
BEGIN:VEVENT
DTSTART:20260207T220000Z
DTEND:20260208T000000Z
X-MICROSOFT-CDO-ALLDAYEVENT:FALSE
SUMMARY:Whitefish Winter Carnival ~ GRAND PARADE LXVII
DESCRIPTION:The Carnival Weekend reaches its peak with the Grand Parade\, featuring entries of all shapes and sizes. A fun\, family event\, come join in the merriment!
X-ALT-DESC;FMTTYPE=text/html:The Carnival Weekend reaches its peak with the Grand Parade\, featuring entries of all shapes and sizes. A fun\, family event\, come join in the merriment!
LOCATION:Downtown Whitefish
UID:e.148.76612
SEQUENCE:3
DTSTAMP:20260422T220345Z
URL:https://business.whitefishchamber.org/events/details/whitefish-winter-carnival-grand-parade-lxvii-76612
END:VEVENT

END:VCALENDAR
