BEGIN:VCALENDAR
VERSION:2.0
PRODID:-//ChamberMaster//Event Calendar 2.0//EN
METHOD:PUBLISH
X-PUBLISHED-TTL:P3D
REFRESH-INTERVAL:P3D
CALSCALE:GREGORIAN
BEGIN:VEVENT
DTSTART:20260308T030000Z
DTEND:20260308T065500Z
X-MICROSOFT-CDO-ALLDAYEVENT:FALSE
SUMMARY:Women Who Rock & After Party
DESCRIPTION:Celebrate fierce ladies of rock with hit songs and unstoppable vibes don't miss Women Who Rock!\n\n\n\n\n\nJoin Us for WOMEN WHO ROCK\n\nA Tribute to the Greatest Rock Voices of All Time\n\nMarch 7\n\n101 Central   The Second Story\n\nGeneral Admission/Standing Room | Live 6 Piece Band\n\nThis tribute concert showcases the greatest rock voices of all time artists who didn't just sing songs\, but changed the sound of rock music.\n\nExpect an evening filled with:\n\n\n	Legendary rock anthems\n	Bold\, soulful\, and fearless vocals\n	A dynamic live band\n	An intimate\, electric atmosphere\n\n\nWhether you grew up with these songs or are discovering them anew\, Women Who Rockis a celebration of strength\, artistry\, and timeless music.\n\nCome sing along.\n\nCome feel the power.\n\nCome rock with us.
X-ALT-DESC;FMTTYPE=text/html:<div>\n<div>\n<p>Celebrate fierce ladies of rock with hit songs and unstoppable vibes&mdash\;don&rsquo\;t miss Women Who Rock!</p>\n</div>\n</div>\n\n<div>\n<div>\n<h2>Join Us for&nbsp\;<strong>WOMEN WHO ROCK</strong><br />\n<em>A Tribute to the Greatest Rock Voices of All Time</em></h2>\n\n<p><strong>March 7</strong><br />\n<strong>101 Central &ndash\; The Second Story</strong><br />\nGeneral Admission/Standing Room | Live 6 Piece Band</p>\n\n<p>This tribute concert showcases the greatest rock voices of all time&mdash\;artists who didn&rsquo\;t just sing songs\, but&nbsp\;<strong>changed the sound of rock music</strong>.</p>\n\n<p>Expect an evening filled with:</p>\n\n<ul>\n	<li>Legendary rock anthems</li>\n	<li>Bold\, soulful\, and fearless vocals</li>\n	<li>A dynamic live band</li>\n	<li>An intimate\, electric atmosphere</li>\n</ul>\n\n<p>Whether you grew up with these songs or are discovering them anew\,&nbsp\;<strong>Women Who Rock</strong>is a celebration of strength\, artistry\, and timeless music.</p>\n\n<p>Come sing along.<br />\nCome feel the power.<br />\nCome rock with us.</p>\n</div>\n</div>\n
LOCATION:101 Central's Second Story in Whitefish
UID:e.148.83350
SEQUENCE:3
DTSTAMP:20260422T231518Z
URL:https://business.whitefishchamber.org/events/details/women-who-rock-after-party-83350
END:VEVENT

END:VCALENDAR
